BEGIN:VCALENDAR
VERSION:2.0
PRODID:-//voestalpine AG//www.voestalpine.com//EN
BEGIN:VEVENT
DTSTART:20260520
DTEND:20260522
SUMMARY;CHARSET=UTF-8;ENCODING=QUOTED-PRINTABLE:The Rise of IoT, AI & Data in Rail 2026
LOCATION;CHARSET=UTF-8;ENCODING=QUOTED-PRINTABLE:Cologne, Deutschland 
DESCRIPTION;CHARSET=UTF-8:The latest innovations in smart data, IoT, and AI in the rail sector. Join us at the “The Rise of IoT, AI &amp; Data in Rail 2026” conference. \nLocation: Maritim Hotel, Heumarkt 20, 50667 Cologne
END:VEVENT
END:VCALENDAR
