BEGIN:VCALENDAR
VERSION:2.0
PRODID:-//voestalpine AG//www.voestalpine.com//EN
BEGIN:VEVENT
DTSTART:20251105
DTEND:20251108
SUMMARY;CHARSET=UTF-8;ENCODING=QUOTED-PRINTABLE:SPE Montney/Duvernay Symposium 2025
LOCATION;CHARSET=UTF-8;ENCODING=QUOTED-PRINTABLE:Banff, Canada
END:VEVENT
END:VCALENDAR
