BEGIN:VCALENDAR
VERSION:2.0
PRODID:-//voestalpine AG//www.voestalpine.com//EN
BEGIN:VEVENT
DTSTART:20251103
DTEND:20251107
SUMMARY;CHARSET=UTF-8;ENCODING=QUOTED-PRINTABLE:ADIPEC 2025
LOCATION;CHARSET=UTF-8;ENCODING=QUOTED-PRINTABLE:Abu Dhabi, UAE
END:VEVENT
END:VCALENDAR
