BEGIN:VCALENDAR
VERSION:2.0
PRODID:-//voestalpine AG//www.voestalpine.com//EN
BEGIN:VEVENT
DTSTART:20231113T101800Z
DTEND:20231116T101900Z
SUMMARY;CHARSET=UTF-8;ENCODING=QUOTED-PRINTABLE:AUSRAIL Plus 2023
LOCATION;CHARSET=UTF-8;ENCODING=QUOTED-PRINTABLE:ICC (International Convention Centre) Sydney, Australia
DESCRIPTION;CHARSET=UTF-8:AUSRAIL Plus 2023 - the largest rail event in the Asia-Pacific region. \nHall 2-4, Booth 316 \nDates: Monday, 13 November - Thursday, 16 November 2023Location: ICC (International Convention Centre) Sydney, Hall 2-4, Booth 316
END:VEVENT
END:VCALENDAR
