BEGIN:VCALENDAR
VERSION:2.0
PRODID:-//voestalpine AG//www.voestalpine.com//EN
BEGIN:VEVENT
DTSTART:20260319T093000Z
DTEND:20260319T101000Z
SUMMARY;CHARSET=UTF-8;ENCODING=QUOTED-PRINTABLE:Webinar: Digital Railway – „zentrak“
LOCATION;CHARSET=UTF-8;ENCODING=QUOTED-PRINTABLE:Online | Railway Systems Academy
DESCRIPTION;CHARSET=UTF-8:Erfahren Sie, wie zentrak den Bahnbetrieb durch Echtzeitüberwachung, prädiktive Analysen und zentralisiertes Asset Management transformiert.
END:VEVENT
END:VCALENDAR
