BEGIN:VCALENDAR
VERSION:2.0
PRODID:-//voestalpine AG//www.voestalpine.com//EN
BEGIN:VEVENT
DTSTART:20260312T093000Z
DTEND:20260312T100000Z
SUMMARY;CHARSET=UTF-8;ENCODING=QUOTED-PRINTABLE:Webinar: Track Systems
LOCATION;CHARSET=UTF-8;ENCODING=QUOTED-PRINTABLE:Online | Railway Systems Academy
DESCRIPTION;CHARSET=UTF-8:Entdecken Sie, wie fortschrittliche Eisenbahnstähle, technische Exzellenz und maßgeschneiderte Beratungsleistungen die Verfügbarkeit und Haltbarkeit von Gleisen maximieren.
END:VEVENT
END:VCALENDAR
