BEGIN:VCALENDAR
VERSION:2.0
PRODID:-//voestalpine AG//www.voestalpine.com//EN
BEGIN:VEVENT
DTSTART:20260305T090000Z
DTEND:20260305T094000Z
SUMMARY;CHARSET=UTF-8;ENCODING=QUOTED-PRINTABLE:Webinar: Railway Systems Solutions
LOCATION;CHARSET=UTF-8;ENCODING=QUOTED-PRINTABLE:Online | Railway Systems Academy
DESCRIPTION;CHARSET=UTF-8:Entdecken Sie, wie vollständig integrierte Eisenbahnsystemlösungen die Leistung, Zuverlässigkeit und Effizienz über den gesamten Lebenszyklus hinweg steigern.
END:VEVENT
END:VCALENDAR
