BEGIN:VCALENDAR
VERSION:2.0
PRODID:-//voestalpine AG//www.voestalpine.com//EN
BEGIN:VEVENT
DTSTART:20251029
DTEND:20251031
SUMMARY;CHARSET=UTF-8;ENCODING=QUOTED-PRINTABLE:Advanced Engineering 2025
LOCATION;CHARSET=UTF-8;ENCODING=QUOTED-PRINTABLE:Birmingham, UK
END:VEVENT
END:VCALENDAR
