BEGIN:VCALENDAR
VERSION:2.0
PRODID:-//voestalpine AG//www.voestalpine.com//EN
BEGIN:VEVENT
DTSTART:20251109
DTEND:20251116
SUMMARY;CHARSET=UTF-8;ENCODING=QUOTED-PRINTABLE:Agritechnica 2025
LOCATION;CHARSET=UTF-8;ENCODING=QUOTED-PRINTABLE:Hannover, Deutschland
END:VEVENT
END:VCALENDAR
