BEGIN:VCALENDAR
VERSION:2.0
PRODID:-//voestalpine AG//www.voestalpine.com//EN
BEGIN:VEVENT
DTSTART:20260422
DTEND:20260425
SUMMARY;CHARSET=UTF-8;ENCODING=QUOTED-PRINTABLE:NASCC Steel Conference 2026
LOCATION;CHARSET=UTF-8;ENCODING=QUOTED-PRINTABLE:Atlanta, USA
END:VEVENT
END:VCALENDAR
