BEGIN:VCALENDAR
VERSION:2.0
PRODID:-//voestalpine AG//www.voestalpine.com//EN
BEGIN:VEVENT
DTSTART:20260603T061400Z
DTEND:20260603T071400Z
SUMMARY;CHARSET=UTF-8;ENCODING=QUOTED-PRINTABLE:Veröffentlichung der Finanzergebnisse zum Geschäftsjahr 2025/26 der voestalpine AG
DESCRIPTION;CHARSET=UTF-8:An diesem Tag findet die Veröffentlichung der Finanzergebnisse zum Geschäftsjahr 2025/26 der voestalpine AG statt.&nbsp;
END:VEVENT
END:VCALENDAR
