BEGIN:VCALENDAR
VERSION:2.0
PRODID:-//voestalpine AG//www.voestalpine.com//EN
BEGIN:VEVENT
DTSTART:20260701T060300Z
DTEND:20260701T070300Z
SUMMARY;CHARSET=UTF-8;ENCODING=QUOTED-PRINTABLE:Hauptversammlung 2026 der voestalpine AG
END:VEVENT
END:VCALENDAR
