BEGIN:VCALENDAR
VERSION:2.0
PRODID:-//voestalpine AG//www.voestalpine.com//EN
BEGIN:VEVENT
DTSTART:20251015
DTEND:20251017
SUMMARY;CHARSET=UTF-8;ENCODING=QUOTED-PRINTABLE:Structural Engineering Summit 2025
LOCATION;CHARSET=UTF-8;ENCODING=QUOTED-PRINTABLE:New York, USA
END:VEVENT
END:VCALENDAR
