BEGIN:VCALENDAR
VERSION:2.0
PRODID:-//voestalpine AG//www.voestalpine.com//EN
BEGIN:VEVENT
DTSTART:20251021
DTEND:20251024
SUMMARY;CHARSET=UTF-8;ENCODING=QUOTED-PRINTABLE:Hydrogen Technology Expo 2025
LOCATION;CHARSET=UTF-8;ENCODING=QUOTED-PRINTABLE:Hamburg, Deutschland
END:VEVENT
END:VCALENDAR
