BEGIN:VCALENDAR
VERSION:2.0
PRODID:-//voestalpine AG//www.voestalpine.com//EN
BEGIN:VEVENT
DTSTART:20210629T070000Z
DTEND:20210629T150000Z
SUMMARY;CHARSET=UTF-8;ENCODING=QUOTED-PRINTABLE:PERFORMANCE ON TRACK® – SUMMIT 2021
DESCRIPTION;CHARSET=UTF-8:Discover in this&nbsp;one-day-digital-summit&nbsp;the latest trends related to performance requirements for the railway, leading to&nbsp;24/7 availability, and&nbsp;optimized life cycle costs&nbsp;in two dedicated conference areas. In our&nbsp;digital exhibition&nbsp;we present&nbsp;innovative products&nbsp;and offer the opportunity to&nbsp;virtually meet&nbsp;in chats, panel&nbsp; discussions, &amp; break out sessions with a&nbsp;global audience.
END:VEVENT
END:VCALENDAR
