BEGIN:VCALENDAR
VERSION:2.0
PRODID:-//voestalpine AG//www.voestalpine.com//EN
BEGIN:VEVENT
DTSTART:20251115
DTEND:20251116
SUMMARY;CHARSET=UTF-8;ENCODING=QUOTED-PRINTABLE:Tag der offenen Tür im Ausbildungszentrum Linz
LOCATION;CHARSET=UTF-8;ENCODING=QUOTED-PRINTABLE:BG57, Forum Zukunft, voestalpine Stahl GmbH, Linz
DESCRIPTION;CHARSET=UTF-8:"Werkstür, öffne dich!" - Die Zukunft beginnt hier. \nAm Samstag, 15. November 2025, öffnet das Ausbildungszentrum der voestalpine Stahl GmbH im Forum Zukunft wieder seine Türen für interessierte Jugendliche, Eltern und Begleitpersonen. \nSie sind eingeladen, einen Blick hinter die Kulissen der Ausbildung zu werfen und die vielfältigen Lehrberufe hautnah kennenzulernen. Ausbilder:innen und Lehrlinge geben Einblicke in ihren Alltag und stehen für Fragen zur Verfügung. \nTipp für alle, die mehr wollen:Nutze die Gelegenheit und melde dich direkt vor Ort zum Schnuppern an - der erste Schritt in deine Zukunft bei voestalpine! \nOrt: BG57, Forum Zukunft, voestalpine Stahl GmbH, LinzDatum: Samstag, 15. November 2025Zeit: 08:00-12:30 Uhr
END:VEVENT
END:VCALENDAR
