BEGIN:VCALENDAR
VERSION:2.0
PRODID:-//voestalpine AG//www.voestalpine.com//EN
BEGIN:VEVENT
DTSTART:20250409
DTEND:20250412
SUMMARY;CHARSET=UTF-8;ENCODING=QUOTED-PRINTABLE:ISDM 2025
LOCATION;CHARSET=UTF-8;ENCODING=QUOTED-PRINTABLE:Montanstadt Leoben
DESCRIPTION;CHARSET=UTF-8:Wir freuen uns auf Ihren Besuch ISDM!
END:VEVENT
END:VCALENDAR
