BEGIN:VCALENDAR
VERSION:2.0
PRODID:-//voestalpine AG//www.voestalpine.com//EN
BEGIN:VEVENT
DTSTART:20250515
DTEND:20250516
SUMMARY;CHARSET=UTF-8;ENCODING=QUOTED-PRINTABLE:HTL Litec
LOCATION;CHARSET=UTF-8;ENCODING=QUOTED-PRINTABLE:Paul-Hahn-Straße 4, 4020 Linz
DESCRIPTION;CHARSET=UTF-8:Wir freuen uns auf Ihren Besuch auf der HTL Litec!
END:VEVENT
END:VCALENDAR
