BEGIN:VCALENDAR
VERSION:2.0
PRODID:-//voestalpine AG//www.voestalpine.com//EN
BEGIN:VEVENT
DTSTART:20250423
DTEND:20250424
SUMMARY;CHARSET=UTF-8;ENCODING=QUOTED-PRINTABLE:Girls Day 
LOCATION;CHARSET=UTF-8;ENCODING=QUOTED-PRINTABLE:voestalpine Ausbildungszentrum – Stahlstraße 30, 4030 Linz
DESCRIPTION;CHARSET=UTF-8:Wir freuen uns auf Ihren Besuch beim Girls Day!
END:VEVENT
END:VCALENDAR
